BEGIN:VCALENDAR
VERSION:2.0
PRODID:-//Mission Literacy in Motion - ECPv6.15.17//NONSGML v1.0//EN
CALSCALE:GREGORIAN
METHOD:PUBLISH
X-ORIGINAL-URL:https://literacyinmission.org
X-WR-CALDESC:Events for Mission Literacy in Motion
REFRESH-INTERVAL;VALUE=DURATION:PT1H
X-Robots-Tag:noindex
X-PUBLISHED-TTL:PT1H
BEGIN:VTIMEZONE
TZID:UTC
BEGIN:STANDARD
TZOFFSETFROM:+0000
TZOFFSETTO:+0000
TZNAME:UTC
DTSTART:20170101T000000
END:STANDARD
END:VTIMEZONE
BEGIN:VEVENT
DTSTART;TZID=UTC:20181004T170000
DTEND;TZID=UTC:20181004T183000
DTSTAMP:20260419T143211
CREATED:20180605T171959Z
LAST-MODIFIED:20180605T171959Z
UID:10000094-1538672400-1538677800@literacyinmission.org
SUMMARY:Pirate Night
DESCRIPTION:Join us for a swashbuckling event!
URL:https://literacyinmission.org/event/pirate-night/
LOCATION:West Heights Elementary\, 32065 Vanvelzen Ave\, Mission\, British Columbia\, Canada
ATTACH;FMTTYPE=image/jpeg:https://literacyinmission.org/wp-content/uploads/2016/10/DSCF7120_compressed-scaled.jpg
ORGANIZER;CN="":MAILTO:trrjackson@gmail.com
END:VEVENT
BEGIN:VEVENT
DTSTART;TZID=UTC:20181004T170000
DTEND;TZID=UTC:20181004T183000
DTSTAMP:20260419T143211
CREATED:20180727T051113Z
LAST-MODIFIED:20180727T051113Z
UID:10000095-1538672400-1538677800@literacyinmission.org
SUMMARY:Family Night at West Heights
DESCRIPTION:On October 4th join us at West Heights Elementary for Family Night \nfrom 5:00 – 6:30pm \nAddress: 32065 Van Velzen Ave | Mission B.C
URL:https://literacyinmission.org/event/family-night-at-west-heights/
LOCATION:West Heights Elementary\, 32065 Vanvelzen Ave\, Mission\, British Columbia\, Canada
END:VEVENT
BEGIN:VEVENT
DTSTART;TZID=UTC:20181015T180000
DTEND;TZID=UTC:20181031T210000
DTSTAMP:20260419T143211
CREATED:20161017T204102Z
LAST-MODIFIED:20181010T173558Z
UID:10000092-1539626400-1541019600@literacyinmission.org
SUMMARY:2018 Fall Volunteer Tutor Training
DESCRIPTION:  \nReasons why people become a Tutor: \nI have loved being a tutor and it has enhanced my communication and leadership skills. \nIt has helped me improve many aspects of my personal and academic life and I would recommend it to everyone \n I learned a lot of good skills like time and group management skills\, as well as enhancing my ability to talk to groups. \n I have learn a lot about how to communicate with people who are different than me. \n I have learned to be more patient with others.  \n 
URL:https://literacyinmission.org/event/2016-fall-volunteer-tutor-training/
LOCATION:Mission Literacy in Motion\, A182 - 33700 Prentis Avenue\, Mission\, BC\, V2V 7B1
ORGANIZER;CN="Marilyn MacDonald":MAILTO:cloc@literacyinmission.org
END:VEVENT
END:VCALENDAR